Workbook
Name JR_PAGE_ANCHOR_0_1: '1.【标表1】投标报价汇总表'!$A$1
Name JR_PAGE_ANCHOR_1_1: '2.【标表2】工程量清单表'!$A$1

Sheet 1.【标表1】投标报价汇总表
B2: 投标报价汇总表
B3: 合同段：扶风县X252双庙至绛帐段公路改造工程 | F3: 标表1
B4: 序号 | C4: 章次 | D4: 科目名称 | F4: 金额（元）
B5: 1 | C5: 100 | D5: 总 则 | F5: ='2.【标表2】工程量清单表'!F21 -> 51000
B6: 2 | C6: 200 | D6: 路 基 | F6: ='2.【标表2】工程量清单表'!F53 -> 0
B7: 3 | C7: 300 | D7: 路 面 | F7: ='2.【标表2】工程量清单表'!F89 -> 0
B8: 4 | C8: 400 | D8: 桥梁、涵洞 | F8: ='2.【标表2】工程量清单表'!F109 -> 0
B9: 5 | C9: 600 | D9: 安全设施及预埋管线 | F9: ='2.【标表2】工程量清单表'!F138 -> 0
B10: 6 | C10: 第100章至第700章合计 | F10: {=SUMPRODUCT(ROUND(F5:F9,2))} -> 51000
B11: 7 | C11: 已包含在清单合计中的材料、工程设备、专业工程暂估价合计
B12: 8 | C12: 清单合计减去材料、工程设备、专业工程暂估价合计 | F12: =F10 -> 51000
B13: 9 | C13: 计日工合计
B14: 10 | C14: 暂列金额（不含计日工总额） | F14: =F12*3% -> 1530
B15: 11 | C15: 投标报价 | F15: =F12+F14 -> 52530
B17: 清单 第 1 页 | F17: 共 1 页

Sheet 2.【标表2】工程量清单表
B2: 工程量清单表
B3: 合同段：扶风县X252双庙至绛帐段公路改造工程 | G3: 标表2
B4: 清单 第100章 总 则
B5: 子目号 | C5: 子目名称 | D5: 单位 | E5: 数量 | F5: 单价 | G5: 合价
B6: 101 | C6: 通则
B7: 101-1 | C7: 保险费
B8: -a | C8: 按合同条款规定，提供建筑工程一切险 | D8: 总额 | E8: 1 | G8: =E8*F8 -> 0
B9: -b | C9: 按合同条款规定，提供第三者责任险 | D9: 总额 | E9: 1 | G9: =E9*F9 -> 0
B10: 102 | C10: 工程管理
B11: 102-1 | C11: 竣工文件 | D11: 总额 | E11: 1 | F11: 8000 | G11: =E11*F11 -> 8000
B12: 102-2 | C12: 施工环保费 | D12: 总额 | E12: 1 | F12: 7000 | G12: =E12*F12 -> 7000
B13: 102-3 | C13: 安全生产费 | D13: 总额 | E13: 1 | G13: =E13*F13 -> 0
B14: 103 | C14: 临时工程与设施
B15: 103-3 | C15: 临时供电设施架设、维护与拆除 | D15: 总额 | E15: 1 | F15: 3000 | G15: =E15*F15 -> 3000
B16: 103-4 | C16: 电信设施的提供、维修与拆除 | D16: 总额 | E16: 1 | F16: 1000 | G16: =E16*F16 -> 1000
B17: 103-5 | C17: 临时供水与排污设施 | D17: 总额 | E17: 1 | F17: 2000 | G17: =E17*F17 -> 2000
B18: 104 | C18: 承包人驻地建设
B19: 104-1 | C19: 承包人驻地建设 | D19: 总额 | E19: 1 | F19: 30000 | G19: =E19*F19 -> 30000
B21: 清单 第100章 合计 人民币 | F21: {=SUMPRODUCT(ROUND(G8:G19,2))} -> 51000 | G21: 元
B22: 清单 第 1 页 | G22: 共 5 页
B25: 工程量清单表
B26: 合同段：扶风县X252双庙至绛帐段公路改造工程 | G26: 标表2
B27: 清单 第200章 路 基
B28: 子目号 | C28: 子目名称 | D28: 单位 | E28: 数量 | F28: 单价 | G28: 合价
B29: 202 | C29: 场地清理
B30: 202-2 | C30: 挖除旧路面
B31: -a | C31: 挖除旧路水泥混凝土面层 | D31: m3 | E31: 1186.14 | G31: =E31*F31 -> 0
B32: -d | C32: 挖除旧路天然砂砾基层 | D32: m3 | E32: 744.82 | G32: =E32*F32 -> 0
B33: 202-3 | C33: 拆除结构物
B34: -b | C34: 混凝土结构 | D34: m3 | E34: 442.1 | G34: =E34*F34 -> 0
B35: -d | C35: 金属结构 | D35: kg | E35: 8840 | G35: =E35*F35 -> 0
B36: -e | C36: 凿除5cm砼路肩 | D36: m3 | E36: 18.5 | G36: =E36*F36 -> 0
B37: -f | C37: 拆除凸面镜 | D37: 个 | E37: 4 | G37: =E37*F37 -> 0
B38: 203 | C38: 挖方路基
B39: 203-1 | C39: 路基挖方
B40: -a | C40: 挖土方 | D40: m3 | E40: 1036.2 | G40: =E40*F40 -> 0
B41: 207 | C41: 坡面排水
B42: 207-1 | C42: 边沟
B43: -c | C43: 现浇C25混凝土 | D43: m3 | E43: 233.6 | G43: =E43*F43 -> 0
B44: -e | C44: 预制安装C25混凝土盖板 | D44: m3 | E44: 51.2 | G44: =E44*F44 -> 0
...
