Workbook
Name JR_PAGE_ANCHOR_0_1: '1.【标表1】投标报价汇总表'!$A$1
Name JR_PAGE_ANCHOR_1_1: '2.【标表2】工程量清单表'!$A$1

Sheet 1.【标表1】投标报价汇总表
B2: 投标报价汇总表
B3: 合同段：扶风县X252双庙至绛帐段公路改造工程 | F3: 标表1
B4: 序号 | C4: 章次 | D4: 科目名称 | F4: 金额（元）
B5: 1 | C5: 100 | D5: 总 则 | F5: ='2.【标表2】工程量清单表'!F21 -> 51000
B6: 2 | C6: 200 | D6: 路 基 | F6: ='2.【标表2】工程量清单表'!F53 -> 0
B7: 3 | C7: 300 | D7: 路 面 | F7: ='2.【标表2】工程量清单表'!F89 -> 0
B8: 4 | C8: 400 | D8: 桥梁、涵洞 | F8: ='2.【标表2】工程量清单表'!F109 -> 0
B9: 5 | C9: 600 | D9: 安全设施及预埋管线 | F9: ='2.【标表2】工程量清单表'!F138 -> 0
B10: 6 | C10: 第100章至第700章合计 | F10: {=SUMPRODUCT(ROUND(F5:F9,2))} -> 51000
B11: 7 | C11: 已包含在清单合计中的材料、工程设备、专业工程暂估价合计
B12: 8 | C12: 清单合计减去材料、工程设备、专业工程暂估价合计 | F12: =F10 -> 51000
B13: 9 | C13: 计日工合计
B14: 10 | C14: 暂列金额（不含计日工总额） | F14: =F12*3% -> 1530
B15: 11 | C15: 投标报价 | F15: =F12+F14 -> 52530
B17: 清单 第 1 页 | F17: 共 1 页

Sheet 2.【标表2】工程量清单表
B2: 工程量清单表
B3: 合同段：扶风县X252双庙至绛帐段公路改造工程 | G3: 标表2
B4: 清单 第100章 总 则
B5: 子目号 | C5: 子目名称 | D5: 单位 | E5: 数量 | F5: 单价 | G5: 合价
B6: 101 | C6: 通则
B7: 101-1 | C7: 保险费
B8: -a | C8: 按合同条款规定，提供建筑工程一切险 | D8: 总额 | E8: 1 | G8: =E8*F8 -> 0
B9: -b | C9: 按合同条款规定，提供第三者责任险 | D9: 总额 | E9: 1 | G9: =E9*F9 -> 0
B10: 102 | C10: 工程管理
B11: 102-1 | C11: 竣工文件 | D11: 总额 | E11: 1 | F11: 8000 | G11: =E11*F11 -> 8000
B12: 102-2 | C12: 施工环保费 | D12: 总额 | E12: 1 | F12: 7000 | G12: =E12*F12 -> 7000
B13: 102-3 | C13: 安全生产费 | D13: 总额 | E13: 1 | G13: =E13*F13 -> 0
B14: 103 | C14: 临时工程与设施
B15: 103-3 | C15: 临时供电设施架设、维护与拆除 | D15: 总额 | E15: 1 | F15: 3000 | G15: =E15*F15 -> 3000
B16: 103-4 | C16: 电信设施的提供、维修与拆除 | D16: 总额 | E16: 1 | F16: 1000 | G16: =E16*F16 -> 1000
B17: 103-5 | C17: 临时供水与排污设施 | D17: 总额 | E17: 1 | F17: 2000 | G17: =E17*F17 -> 2000
B18: 104 | C18: 承包人驻地建设
B19: 104-1 | C19: 承包人驻地建设 | D19: 总额 | E19: 1 | F19: 30000 | G19: =E19*F19 -> 30000
B21: 清单 第100章 合计 人民币 | F21: {=SUMPRODUCT(ROUND(G8:G19,2))} -> 51000 | G21: 元
B22: 清单 第 1 页 | G22: 共 5 页
B25: 工程量清单表
B26: 合同段：扶风县X252双庙至绛帐段公路改造工程 | G26: 标表2
B27: 清单 第200章 路 基
B28: 子目号 | C28: 子目名称 | D28: 单位 | E28: 数量 | F28: 单价 | G28: 合价
B29: 202 | C29: 场地清理
B30: 202-2 | C30: 挖除旧路面
B31: -a | C31: 挖除旧路水泥混凝土面层 | D31: m3 | E31: 1186.14 | G31: =E31*F31 -> 0
B32: -d | C32: 挖除旧路天然砂砾基层 | D32: m3 | E32: 744.82 | G32: =E32*F32 -> 0
B33: 202-3 | C33: 拆除结构物
B34: -b | C34: 混凝土结构 | D34: m3 | E34: 442.1 | G34: =E34*F34 -> 0
B35: -d | C35: 金属结构 | D35: kg | E35: 8840 | G35: =E35*F35 -> 0
B36: -e | C36: 凿除5cm砼路肩 | D36: m3 | E36: 18.5 | G36: =E36*F36 -> 0
B37: -f | C37: 拆除凸面镜 | D37: 个 | E37: 4 | G37: =E37*F37 -> 0
B38: 203 | C38: 挖方路基
B39: 203-1 | C39: 路基挖方
B40: -a | C40: 挖土方 | D40: m3 | E40: 1036.2 | G40: =E40*F40 -> 0
B41: 207 | C41: 坡面排水
B42: 207-1 | C42: 边沟
B43: -c | C43: 现浇C25混凝土 | D43: m3 | E43: 233.6 | G43: =E43*F43 -> 0
B44: -e | C44: 预制安装C25混凝土盖板 | D44: m3 | E44: 51.2 | G44: =E44*F44 -> 0
B45: -g | C45: 边沟清淤 | D45: m3 | E45: 21.52 | G45: =E45*F45 -> 0
B46: 207-11 | C46: 排水管（过路管）
B47: -a | C47: 钢筋混凝土排水管管径40cm | D47: m | E47: 112 | G47: =E47*F47 -> 0
B48: 216-1 | C48: 旧路路基病害处理
B49: -a | C49: 旧路废料回填(天然砂砾基层) | D49: m3 | E49: 245.02 | G49: =E49*F49 -> 0
B50: -b | C50: 4.5%水泥稳定碎石填补结构层 | D50: m3 | E50: 30.26 | G50: =E50*F50 -> 0
B51: 216-2 | C51: 旧水泥路多锤头碎石化 | D51: m2 | E51: 4821 | G51: =E51*F51 -> 0
B53: 清单 第200章 合计 人民币 | F53: {=SUMPRODUCT(ROUND(G31:G51,2))} -> 0 | G53: 元
B54: 清单 第 2 页 | G54: 共 5 页
B57: 工程量清单表
B58: 合同段：扶风县X252双庙至绛帐段公路改造工程 | G58: 标表2
B59: 清单 第300章 路 面
B60: 子目号 | C60: 子目名称 | D60: 单位 | E60: 数量 | F60: 单价 | G60: 合价
B61: 302 | C61: 垫层
B62: 302-1 | C62: 碎石垫层
B63: -a | C63: 碎石调平层 | D63: m3 | E63: 241.1 | G63: =E63*F63 -> 0
B64: 304 | C64: 水泥稳定土底基层、基层
B65: 304-1 | C65: 3.5%水泥稳定碎石底基层
B66: -a | C66: 厚200mm | D66: m2 | E66: 3951 | G66: =E66*F66 -> 0
B67: 304-3 | C67: 4.5%水泥稳定碎石基层
B68: -a | C68: 厚180mm | D68: m2 | E68: 8732 | G68: =E68*F68 -> 0
B69: 304-4 | C69: C20水泥混凝土基层
B70: -a | C70: 厚180mm | D70: m2 | E70: 503 | G70: =E70*F70 -> 0
B71: 308 | C71: 透层和黏层
B72: 308-1 | C72: 乳化沥青透层 | D72: m2 | E72: 8732 | G72: =E72*F72 -> 0
B73: 308-2 | C73: 粘层 | D73: m2 | E73: 457 | G73: =E73*F73 -> 0
B74: 309 | C74: 热拌沥青混合料面层
B75: 309-2 | C75: 中粒式沥青混凝土（AC-16）
B76: -a | C76: 厚50mm | D76: m2 | E76: 9189 | G76: =E76*F76 -> 0
B77: 310 | C77: 沥青表面处置与封层
B78: 310-2 | C78: 热沥青同步碎石封层 | D78: m2 | E78: 8732 | G78: =E78*F78 -> 0
B79: 313 | C79: 路肩培土、中央分隔带回填土、土路肩加固及路缘石
B80: 313-1 | C80: 路肩培土 | D80: m3 | E80: 40 | G80: =E80*F80 -> 0
B81: 313-3 | C81: 现浇混凝土加固土路肩（C20混凝土硬化路肩） | D81: m3 | E81: 42.9 | G81: =E81*F81 -> 0
B82: 313-6 | C82: 砼路肩加高混凝土 | D82: m3 | E82: 103.6 | G82: =E82*F82 -> 0
B83: 313-7 | C83: 新建C20砼路缘石 | D83: m3 | E83: 11.5 | G83: =E83*F83 -> 0
B84: 313-8 | C84: 路肩加高植筋C12 | D84: kg | E84: 972.5 | G84: =E84*F84 -> 0
B85: 315-1 | C85: 铣刨5cm旧沥青面层 | D85: m2 | E85: 2678 | G85: =E85*F85 -> 0
B86: 315-2 | C86: C20混凝土院坝 | D86: m3 | E86: 20 | G86: =E86*F86 -> 0
B87: 315-3 | C87: C20混凝土花坛 | D87: m3 | E87: 160 | G87: =E87*F87 -> 0
B89: 清单 第300章 合计 人民币 | F89: {=SUMPRODUCT(ROUND(G63:G87,2))} -> 0 | G89: 元
B90: 清单 第 3 页 | G90: 共 5 页
B93: 工程量清单表
B94: 合同段：扶风县X252双庙至绛帐段公路改造工程 | G94: 标表2
B95: 清单 第400章 桥梁、涵洞
B96: 子目号 | C96: 子目名称 | D96: 单位 | E96: 数量 | F96: 单价 | G96: 合价
B97: 419 | C97: 圆管涵及倒虹吸管涵
B98: 419-1 | C98: 钢筋混凝土圆管涵1-1.0m | D98: m | E98: 22 | G98: =E98*F98 -> 0
B99: 422 | C99: 桥梁修复工程
B100: 422-1 | C100: 水泥砂浆勾缝 | D100: m2 | E100: 36 | G100: =E100*F100 -> 0
B101: 422-2 | C101: 铣刨5cm旧沥青面层 | D101: m2 | E101: 127.5 | G101: =E101*F101 -> 0
B102: 422-3 | C102: 拉毛旧路 | D102: m2 | E102: 127.5 | G102: =E102*F102 -> 0
B103: 422-4 | C103: 防裂贴 | D103: m2 | E103: 127.5 | G103: =E103*F103 -> 0
B104: 422-5 | C104: 玻纤格栅 | D104: m2 | E104: 127.5 | G104: =E104*F104 -> 0
B105: 422-6 | C105: 沥青防水层 | D105: m2 | E105: 127.5 | G105: =E105*F105 -> 0
B106: 422-7 | C106: 5cm中粒式沥青混凝土面层（AC-16） | D106: m2 | E106: 127.5 | G106: =E106*F106 -> 0
B107: 422-8 | C107: 清理河道杂物 | D107: m3 | E107: 10 | G107: =E107*F107 -> 0
B109: 清单 第400章 合计 人民币 | F109: {=SUMPRODUCT(ROUND(G98:G107,2))} -> 0 | G109: 元
B110: 清单 第 4 页 | G110: 共 5 页
B113: 工程量清单表
...
