Workbook
Name JR_PAGE_ANCHOR_0_1: '清单 第100章 总 则'!$A$1
Name JR_PAGE_ANCHOR_1_1: '清单 第200章 路 基'!$A$1
Name JR_PAGE_ANCHOR_2_1: '清单 第300章 路 面'!$A$1
Name JR_PAGE_ANCHOR_3_1: '清单 第400章 桥梁、涵洞'!$A$1
Name JR_PAGE_ANCHOR_4_1: '清单 第600章 安全设施及预埋管线'!$A$1
Name JR_PAGE_ANCHOR_5_1: '【】5.4 投标报价汇总表'!$A$1

Sheet 【】5.4 投标报价汇总表
B2: 5.4 投标报价汇总表
B3: 合同段：2026年谭坝镇鸭蛋河村宗兴路至张庄垭公路硬化工程
B5: 序号 | C5: 章次 | D5: 科目名称 | F5: 金额（元）
B6: 1 | C6: 100 | D6: 总 则 | F6: ='清单 第100章 总 则'!D16 -> 0
B7: 2 | C7: 200 | D7: 路 基 | F7: ='清单 第200章 路 基'!D21 -> 0
B8: 3 | C8: 300 | D8: 路 面 | F8: ='清单 第300章 路 面'!D15 -> 0
B9: 4 | C9: 400 | D9: 桥梁、涵洞 | F9: ='清单 第400章 桥梁、涵洞'!D11 -> 0
B10: 5 | C10: 600 | D10: 安全设施及预埋管线 | F10: ='清单 第600章 安全设施及预埋管线'!D13 -> 0
B11: 6 | C11: 第100章至第700章合计 | F11: =SUM(F1:F10) -> 0
B12: 7 | C12: 已包含在清单合计中的材料、工程设备、专业工程暂估价合计
B13: 8 | C13: 清单合计减去材料、工程设备、专业工程暂估价合计 | F13: 0
B14: 9 | C14: 计日工合计
B15: 10 | C15: 暂列金额（不含计日工总额） | F15: =F13*0% -> 0
B16: 11 | C16: 投标报价 | F16: 0
B18: 清单 第 1 页 | F18: 共 1 页

Sheet 清单  第100章  总 则
B2: 5.1 工程量清单表
B3: 工程量清单表
B4: 清单 第100章 总 则
B5: 子目号 | C5: 子目名称 | D5: 单位 | E5: 数量 | F5: 单价 | G5: 合价
B6: 101 | C6: 通则
B7: 101-1 | C7: 保险费
B8: -a | C8: 按合同条款规定，提供建筑工程一切险 | D8: 总额 | E8: 1 | G8: =IF(ISBLANK(E8),"",IF(ISBLANK(F8),"",E8*F8))
B9: -b | C9: 按合同条款规定，提供第三者责任险 | D9: 总额 | E9: 1 | G9: =IF(ISBLANK(E9),"",IF(ISBLANK(F9),"",E9*F9))
B10: 102 | C10: 工程管理
B11: 102-3 | C11: 安全生产费 | D11: 总额 | E11: 1 | G11: =IF(ISBLANK(E11),"",IF(ISBLANK(F11),"",E11*F11))
B12: 103 | C12: 交通保畅设施
B13: 103-1 | C13: 矩形标志牌 | D13: 个 | E13: 2 | G13: =IF(ISBLANK(E13),"",IF(ISBLANK(F13),"",E13*F13))
B14: 103-2 | C14: 锥形交通标 | D14: 个 | E14: 12 | G14: =IF(ISBLANK(E14),"",IF(ISBLANK(F14),"",E14*F14))
B16: 清单 第100章 合计 人民币 | D16: =SUM(G1:G15) -> 0 | F16: 元

Sheet 清单  第200章  路 基
B2: 5.1 工程量清单表
B3: 工程量清单表
B4: 清单 第200章 路 基
B5: 子目号 | C5: 子目名称 | D5: 单位 | E5: 数量 | F5: 单价 | G5: 合价
B6: 203-1 | C6: 路基挖方
B7: -a | C7: 挖土方（普通土、外运2KM） | D7: m3 | E7: 13028 | G7: =IF(ISBLANK(E7),"",IF(ISBLANK(F7),"",E7*F7))
B8: -b | C8: 挖石方（软石无需开炸或破碎、外运2KM） | D8: m3 | E8: 7607 | G8: =IF(ISBLANK(E8),"",IF(ISBLANK(F8),"",E8*F8))
B9: 204-1 | C9: 路基填筑（包括填前压实）
B10: -a | C10: 利用土方 | D10: m3 | E10: 1706 | G10: =IF(ISBLANK(E10),"",IF(ISBLANK(F10),"",E10*F10))
B11: 205-1 | C11: 软土路基处理
B12: -a | C12: 挖软基 | D12: m3 | E12: 160 | G12: =IF(ISBLANK(E12),"",IF(ISBLANK(F12),"",E12*F12))
B13: -b | C13: 换填石渣 | D13: m3 | E13: 160 | G13: =IF(ISBLANK(E13),"",IF(ISBLANK(F13),"",E13*F13))
B14: 207-1 | C14: 路基路面排水
B15: -a | C15: 现浇C20混凝土边沟 | D15: m3 | E15: 524.04 | G15: =IF(ISBLANK(E15),"",IF(ISBLANK(F15),"",E15*F15))
B16: -b | C16: φ300mm过户涵管 | D16: m | E16: 26 | G16: =IF(ISBLANK(E16),"",IF(ISBLANK(F16),"",E16*F16))
B17: 209-3 | C17: 砌体挡土墙
B18: -a | C18: M7.5浆砌片石路堑墙 | D18: m3 | E18: 147.6 | G18: =IF(ISBLANK(E18),"",IF(ISBLANK(F18),"",E18*F18))
B19: -b | C19: M7.5浆砌片石路肩墙 | D19: m3 | E19: 1130.4 | G19: =IF(ISBLANK(E19),"",IF(ISBLANK(F19),"",E19*F19))
B21: 清单 第200章 合计 人民币 | D21: =SUM(G1:G20) -> 0 | F21: 元

Sheet 清单  第300章  路 面
B2: 5.1 工程量清单表
B3: 工程量清单表
B4: 清单 第300章 路 面
B5: 子目号 | C5: 子目名称 | D5: 单位 | E5: 数量 | F5: 单价 | G5: 合价
B6: 302-1 | C6: 路面垫层（含平面交叉及错车道）
B7: -a | C7: 厚160mm开山石渣垫层 | D7: m2 | E7: 20148.84 | G7: =IF(ISBLANK(E7),"",IF(ISBLANK(F7),"",E7*F7))
B8: 312-1 | C8: 水泥混凝土路面（含平面交叉及错车道）
B9: -a | C9: 厚180mm（混凝土弯拉强度4.0MPa） | D9: m2 | E9: 15733.84 | G9: =IF(ISBLANK(E9),"",IF(ISBLANK(F9),"",E9*F9))
B10: 312-2 | C10: 钢筋
B11: -a | C11: 光圆钢筋（HPB300） | D11: kg | E11: 686.1 | G11: =IF(ISBLANK(E11),"",IF(ISBLANK(F11),"",E11*F11))
B12: 313 | C12: 路肩培土、中央分隔带回填土、土路肩加固及路缘石
B13: 313-1 | C13: 路肩培土 | D13: m3 | E13: 799.194 | G13: =IF(ISBLANK(E13),"",IF(ISBLANK(F13),"",E13*F13))
B15: 清单 第300章 合计 人民币 | D15: =SUM(G1:G14) -> 0 | F15: 元

Sheet 清单  第400章  桥梁、涵洞
B2: 5.1 工程量清单表
B3: 工程量清单表
B4: 清单 第400章 桥梁、涵洞
B5: 子目号 | C5: 子目名称 | D5: 单位 | E5: 数量 | F5: 单价 | G5: 合价
B6: 419 | C6: 圆管涵及倒虹吸管涵
B7: 419-1 | C7: 1-1.0m单孔钢筋混凝土圆管涵 | D7: m | E7: 122 | G7: =IF(ISBLANK(E7),"",IF(ISBLANK(F7),"",E7*F7))
B8: 420 | C8: 盖板涵、箱涵
B9: 420-1 | C9: 1-3.0m钢筋混凝土盖板涵 | D9: m | E9: 4.5 | G9: =IF(ISBLANK(E9),"",IF(ISBLANK(F9),"",E9*F9))
B11: 清单 第400章 合计 人民币 | D11: =SUM(G1:G10) -> 0 | F11: 元

Sheet 清单  第600章  安全设施及预埋管线
B2: 5.1 工程量清单表
B3: 工程量清单表
B4: 清单 第600章 安全设施及预埋管线
B5: 子目号 | C5: 子目名称 | D5: 单位 | E5: 数量 | F5: 单价 | G5: 合价
B6: 602 | C6: 护栏
B7: 602-3 | C7: 波形梁钢护栏
B8: -a | C8: Gr-D-2E（含端头） | D8: m | E8: 404 | G8: =IF(ISBLANK(E8),"",IF(ISBLANK(F8),"",E8*F8))
B9: -b | C9: Gr-D-4E（含端头） | D9: m | E9: 416 | G9: =IF(ISBLANK(E9),"",IF(ISBLANK(F9),"",E9*F9))
B10: 604 | C10: 道路交通标志
B11: 604-1 | C11: D800道路反光镜 | D11: 个 | E11: 12 | G11: =IF(ISBLANK(E11),"",IF(ISBLANK(F11),"",E11*F11))
B13: 清单 第600章 合计 人民币 | D13: =SUM(G1:G12) -> 0 | F13: 元
